BEGIN:VCALENDAR
VERSION:2.0
PRODID:-//Squarespace Inc/Squarespace 6//v6//EN
BEGIN:VEVENT
UID:5ecc460be3d0ce7bf21d0e97@squarespace.com
DTSTAMP:20200525T222745Z
DTSTART:20090422T223000Z
DTEND:20090822T233000Z
SUMMARY:Legacy: The Norrie Collection &amp\; Other Portraits from Governmen
 t House
END:VEVENT
END:VCALENDAR
