BEGIN:VCALENDAR
VERSION:2.0
PRODID:-//Squarespace Inc/Squarespace 6//v6//EN
BEGIN:VEVENT
UID:5ec48baf550fb5297baeb668@squarespace.com
DTSTAMP:20200525T221741Z
DTSTART:20100422T020000Z
DTEND:20100718T030000Z
SUMMARY:Head 2 Head: Contemporary Portraiture by Martin Ball and Mary McInt
 yre
END:VEVENT
END:VCALENDAR
