BEGIN:VCALENDAR
VERSION:2.0
PRODID:-//Squarespace Inc/Squarespace 6//v6//EN
BEGIN:VEVENT
UID:5ecc45b3d6d7ad4f6c589652@squarespace.com
DTSTAMP:20200525T222607Z
DTSTART:20090225T213000Z
DTEND:20090402T223000Z
SUMMARY:Power of Portraiture
END:VEVENT
END:VCALENDAR
