BEGIN:VCALENDAR
VERSION:2.0
PRODID:-//Squarespace Inc/Squarespace 6//v6//EN
BEGIN:VEVENT
UID:5ec48b3eff8a130b61d3c663@squarespace.com
DTSTAMP:20200520T014510Z
DTSTART:20091119T010000Z
DTEND:20100210T020000Z
SUMMARY:The Cabinet Makers: New Zealand's Prime Ministers
END:VEVENT
END:VCALENDAR
