BEGIN:VCALENDAR
VERSION:2.0
PRODID:-//Squarespace Inc/Squarespace 6//v6//EN
BEGIN:VEVENT
UID:5ec48d60ff8a130b61d41f0c@squarespace.com
DTSTAMP:20200520T015902Z
DTSTART:20091116T010000Z
DTEND:20100116T020000Z
SUMMARY:Beginnings
END:VEVENT
END:VCALENDAR
