BEGIN:VCALENDAR
VERSION:2.0
PRODID:-//Squarespace Inc/Squarespace 6//v6//EN
BEGIN:VEVENT
UID:5ec48f1e7017b46f93f24ffb@squarespace.com
DTSTAMP:20200520T021745Z
DTSTART:20080827T020000Z
DTEND:20081112T030000Z
SUMMARY:Looking Down the Barrel: the Face of New Zealand Wine
END:VEVENT
END:VCALENDAR
