BEGIN:VCALENDAR
VERSION:2.0
PRODID:-//Squarespace Inc/Squarespace 6//v6//EN
BEGIN:VEVENT
UID:5ecb3d4972e6a72aac10c013@squarespace.com
DTSTAMP:20200525T033904Z
DTSTART:20080710T050000Z
DTEND:20080814T060000Z
SUMMARY:Facescapes Portraits by Deirdre Copeland / I Am - Installation by D
 elicia Sampero
END:VEVENT
END:VCALENDAR
