BEGIN:VCALENDAR
VERSION:2.0
PRODID:-//Squarespace Inc/Squarespace 6//v6//EN
BEGIN:VEVENT
UID:5eae99983f097262cc485145@squarespace.com
DTSTAMP:20200629T005310Z
DTSTART:20080220T213000Z
DTEND:20080401T033000Z
SUMMARY:Adam Portraiture Award 2008
END:VEVENT
END:VCALENDAR
