BEGIN:VCALENDAR
VERSION:2.0
PRODID:-//Squarespace Inc/Squarespace 6//v6//EN
BEGIN:VEVENT
UID:5ecc454fb4f8de1f77919197@squarespace.com
DTSTAMP:20200525T222438Z
DTSTART:20081217T213000Z
DTEND:20090130T223000Z
SUMMARY:"The Sitting" Stephen Martyn Welch
END:VEVENT
END:VCALENDAR
