BEGIN:VCALENDAR
VERSION:2.0
PRODID:-//Squarespace Inc/Squarespace 6//v6//EN
BEGIN:VEVENT
UID:5ecb3cef2dd571390c64dd2d@squarespace.com
DTSTAMP:20200525T034221Z
DTSTART:20070830T050000Z
DTEND:20070930T050000Z
SUMMARY:Face Value: Video Portraiture from the Pacific
END:VEVENT
END:VCALENDAR
