BEGIN:VCALENDAR
VERSION:2.0
PRODID:-//Squarespace Inc/Squarespace 6//v6//EN
BEGIN:VEVENT
UID:5ecb3c973bbee218edb87e8a@squarespace.com
DTSTAMP:20200525T033458Z
DTSTART:20070711T050000Z
DTEND:20070819T060000Z
SUMMARY:The Hocken Collection at NZPG
END:VEVENT
END:VCALENDAR
