BEGIN:VCALENDAR
VERSION:2.0
PRODID:-//Squarespace Inc/Squarespace 6//v6//EN
BEGIN:VEVENT
UID:5ed1ca5887a37f45a2fa7ad1@squarespace.com
DTSTAMP:20200627T042150Z
DTSTART:20060314T213000Z
DTEND:20060417T040000Z
SUMMARY:Adam Portraiture Award 2006
END:VEVENT
END:VCALENDAR
