BEGIN:VCALENDAR
VERSION:2.0
PRODID:-//Squarespace Inc/Squarespace 6//v6//EN
BEGIN:VEVENT
UID:5ef69e6ae30e714667bd89e6@squarespace.com
DTSTAMP:20200629T004206Z
DTSTART:20040225T210000Z
DTEND:20040417T040000Z
SUMMARY:Adam Portraiture Award 2004
END:VEVENT
END:VCALENDAR
