BEGIN:VCALENDAR
VERSION:2.0
PRODID:-//Squarespace Inc/Squarespace 6//v6//EN
BEGIN:VEVENT
UID:5ef6a13ffe2e3739fd93e216@squarespace.com
DTSTAMP:20200629T004958Z
DTSTART:20020220T210000Z
DTEND:20020527T040000Z
SUMMARY:Adam Portraiture Award 2002
END:VEVENT
END:VCALENDAR
