BEGIN:VCALENDAR
VERSION:2.0
PRODID:-//Squarespace Inc/Squarespace 6//v6//EN
BEGIN:VEVENT
UID:5ef6a62938959111449f414b@squarespace.com
DTSTAMP:20200704T020520Z
DTSTART:20000209T210000Z
DTEND:20000401T040000Z
SUMMARY:National Portrait Competition 2000
END:VEVENT
END:VCALENDAR
