BEGIN:VCALENDAR
VERSION:2.0
PRODID:-//Squarespace Inc/Squarespace 6//v6//EN
BEGIN:VEVENT
UID:5fc45dd02dd96f5918790abe@squarespace.com
DTSTAMP:20210110T210003Z
DTSTART:20210123T000000Z
DTEND:20210123T023000Z
SUMMARY:SOLD OUT Workshop: Looping with Birgit Moffatt
GEO:-41.283459;174.778267
LOCATION:New Zealand Portrait Gallery Te Pūkenga Whakaata\, Shed 11\, 60 La
 dy Elizabeth Lane\, Wellington\, New Zealand
END:VEVENT
END:VCALENDAR
