BEGIN:VCALENDAR
VERSION:2.0
PRODID:-//Squarespace Inc/Squarespace 6//v6//EN
BEGIN:VEVENT
UID:5ffbaf0d9680005fb34a62bd@squarespace.com
DTSTAMP:20210118T015219Z
DTSTART:20210131T000000Z
DTEND:20210131T020000Z
SUMMARY:Workshop: Art like Star
GEO:-41.283459;174.778267
LOCATION:New Zealand Portrait Gallery Te Pūkenga Whakaata\, Shed 11\, 60 La
 dy Elizabeth Lane\, Wellington\, New Zealand
END:VEVENT
END:VCALENDAR
