BEGIN:VCALENDAR
VERSION:2.0
PRODID:-//Squarespace Inc/Squarespace 6//v6//EN
BEGIN:VEVENT
UID:5f0398e4f3633a029cd6137b@squarespace.com
DTSTAMP:20200706T214531Z
DTSTART:20200809T020000Z
DTEND:20200809T030000Z
SUMMARY:People's Choice Award Ceremony
END:VEVENT
END:VCALENDAR
