BEGIN:VCALENDAR
VERSION:2.0
PRODID:-//Squarespace Inc/Squarespace 6//v6//EN
BEGIN:VEVENT
UID:5e8bf2823eff942aa493f214@squarespace.com
DTSTAMP:20200920T235646Z
DTSTART:20200829T010000Z
DTEND:20200829T030000Z
SUMMARY:Saturday Sittings 
END:VEVENT
END:VCALENDAR
