BEGIN:VCALENDAR
VERSION:2.0
PRODID:-//Squarespace Inc/Squarespace 6//v6//EN
BEGIN:VEVENT
UID:5f67ec3e28978b1bff246fb4@squarespace.com
DTSTAMP:20201029T211252Z
DTSTART:20201031T000000Z
DTEND:20201031T020000Z
SUMMARY:Saturday Sittings 
END:VEVENT
END:VCALENDAR
