BEGIN:VCALENDAR
VERSION:2.0
PRODID:-//Squarespace Inc/Squarespace 6//v6//EN
BEGIN:VEVENT
UID:5e8bb0bf78176467d1d294e0@squarespace.com
DTSTAMP:20200520T010450Z
DTSTART:20200326T220000Z
DTEND:20200913T000000Z
SUMMARY:Bill Sutton: A Good Idea - Guided Tour 
END:VEVENT
END:VCALENDAR
