BEGIN:VCALENDAR
VERSION:2.0
PRODID:-//Squarespace Inc/Squarespace 6//v6//EN
BEGIN:VEVENT
UID:5ea0b882d3d9651ee0c91a2a@squarespace.com
DTSTAMP:20200505T230151Z
DTSTART:20180228T210000Z
DTEND:20180228T220000Z
SUMMARY:2018 Adam Portraiture Award: Judge's Talks
END:VEVENT
END:VCALENDAR
