BEGIN:VCALENDAR
VERSION:2.0
PRODID:-//Squarespace Inc/Squarespace 6//v6//EN
BEGIN:VEVENT
UID:5e9e7e9393a34a4ad83a7a93@squarespace.com
DTSTAMP:20200505T230200Z
DTSTART:20181117T043000Z
DTEND:20181117T053000Z
SUMMARY:Witi Ihimarea\, Ella Henry\, Darcy Nicholas and John Walsh in Discu
 ssion 
END:VEVENT
END:VCALENDAR
