BEGIN:VCALENDAR
VERSION:2.0
PRODID:-//Squarespace Inc/Squarespace 6//v6//EN
BEGIN:VEVENT
UID:5ed86c966521f36f629d9f03@squarespace.com
DTSTAMP:20200604T034340Z
DTSTART:20200331T000000Z
DTEND:20200331T010000Z
SUMMARY:Leimomi Oakes: Pacific Influences on Western Fashion
END:VEVENT
END:VCALENDAR
