BEGIN:VCALENDAR
VERSION:2.0
PRODID:-//Squarespace Inc/Squarespace 6//v6//EN
BEGIN:VEVENT
UID:5ed84de4ee70b81076ce6672@squarespace.com
DTSTAMP:20200604T022252Z
DTSTART:20200314T010000Z
DTEND:20200314T020000Z
SUMMARY: Curator Talk: Not Just My Face
END:VEVENT
END:VCALENDAR
