BEGIN:VCALENDAR
VERSION:2.0
PRODID:-//Squarespace Inc/Squarespace 6//v6//EN
BEGIN:VEVENT
UID:5e6980ee5fb89076ac165a24@squarespace.com
DTSTAMP:20200505T230622Z
DTSTART:20200401T170000Z
DTEND:20200401T180000Z
SUMMARY:Judges Talk: Adam Portraiture Award
GEO:-41.283459;174.778267
LOCATION:New Zealand Portrait Gallery\, Shed 11\, 60 Lady Elizabeth Lane\, 
 Queens Wharf\, Wellington Waterfront\, Wellington\, New Zealand
END:VEVENT
END:VCALENDAR
