BEGIN:VCALENDAR
VERSION:2.0
PRODID:-//Squarespace Inc/Squarespace 6//v6//EN
BEGIN:VEVENT
UID:5ed84e5a611dc04dc4c175d9@squarespace.com
DTSTAMP:20200604T031032Z
DTSTART:20200229T021500Z
DTEND:20200229T031500Z
SUMMARY:Artist Talk: Stephen Lawrie
END:VEVENT
END:VCALENDAR
