BEGIN:VCALENDAR
VERSION:2.0
PRODID:-//Squarespace Inc/Squarespace 6//v6//EN
BEGIN:VEVENT
UID:5ed85b1a5590d9085919e8e2@squarespace.com
DTSTAMP:20200604T022416Z
DTSTART:20200228T000000Z
DTEND:20200228T010000Z
SUMMARY:Artist Talk: Jana Branca
END:VEVENT
END:VCALENDAR
