BEGIN:VCALENDAR
VERSION:2.0
PRODID:-//Squarespace Inc/Squarespace 6//v6//EN
BEGIN:VEVENT
UID:5ed85b6b611dc04dc4c3335a@squarespace.com
DTSTAMP:20200604T022620Z
DTSTART:20200226T213000Z
DTEND:20200228T033000Z
SUMMARY:Draw in The Gallery
END:VEVENT
END:VCALENDAR
