BEGIN:VCALENDAR
VERSION:2.0
PRODID:-//Squarespace Inc/Squarespace 6//v6//EN
BEGIN:VEVENT
UID:5ed85beb2aa608649cff09a4@squarespace.com
DTSTAMP:20200604T023024Z
DTSTART:20200131T213000Z
DTEND:20200202T033000Z
SUMMARY:Chinese New Year Scavenger Hunt
END:VEVENT
END:VCALENDAR
