BEGIN:VCALENDAR
VERSION:2.0
PRODID:-//Squarespace Inc/Squarespace 6//v6//EN
BEGIN:VEVENT
UID:5fc835767ff5a343ebecd9dd@squarespace.com
DTSTAMP:20201203T011734Z
DTSTART:20201216T220000Z
DTEND:20201216T230000Z
SUMMARY:Curator Talk: Portraits of Power / Portraits as Power
GEO:-41.283459;174.778267
LOCATION:New Zealand Portrait Gallery Te Pūkenga Whakaata\, Shed 11\, 60 La
 dy Elizabeth Lane\, Wellington\, New Zealand
END:VEVENT
END:VCALENDAR
