BEGIN:VCALENDAR
VERSION:2.0
PRODID:-//Squarespace Inc/Squarespace 6//v6//EN
BEGIN:VEVENT
UID:5f9f607842433c0d822bcf8a@squarespace.com
DTSTAMP:20201201T021212Z
DTSTART:20201108T000000Z
DTEND:20201108T010000Z
SUMMARY:Curator Talk: Marti Friedlander 
END:VEVENT
END:VCALENDAR
