BEGIN:VCALENDAR
VERSION:2.0
PRODID:-//Squarespace Inc/Squarespace 6//v6//EN
BEGIN:VEVENT
UID:5f9f5060c0d9fd7d2f935558@squarespace.com
DTSTAMP:20201201T021234Z
DTSTART:20201128T000000Z
DTEND:20201128T020000Z
SUMMARY:Saturday Sittings November
END:VEVENT
END:VCALENDAR
