BEGIN:VCALENDAR
VERSION:2.0
PRODID:-//Squarespace Inc/Squarespace 6//v6//EN
BEGIN:VEVENT
UID:5fab4bb7ec781e3dbf2926b5@squarespace.com
DTSTAMP:20201201T021221Z
DTSTART:20201126T230000Z
DTEND:20201127T000000Z
SUMMARY:Curator Talk: Star Gossage- He Tangata The People
END:VEVENT
END:VCALENDAR
