BEGIN:VCALENDAR
VERSION:2.0
PRODID:-//Squarespace Inc/Squarespace 6//v6//EN
BEGIN:VEVENT
UID:5ed85d496ccfac1eace298bf@squarespace.com
DTSTAMP:20200604T023416Z
DTSTART:20200125T010000Z
DTEND:20200125T030000Z
SUMMARY:Chinese Footprints: Walking Tour of Wellington's Chinese History
END:VEVENT
END:VCALENDAR
