BEGIN:VCALENDAR
VERSION:2.0
PRODID:-//Squarespace Inc/Squarespace 6//v6//EN
BEGIN:VEVENT
UID:5ed85cd4b79765492a9b3af9@squarespace.com
DTSTAMP:20200604T023218Z
DTSTART:20200124T213000Z
DTEND:20200124T223000Z
SUMMARY:Cast Out:逐 Film Screening
END:VEVENT
END:VCALENDAR
