BEGIN:VCALENDAR
VERSION:2.0
PRODID:-//Squarespace Inc/Squarespace 6//v6//EN
BEGIN:VEVENT
UID:5ed8646f4c511a79a5f3a808@squarespace.com
DTSTAMP:20200604T031106Z
DTSTART:20190926T010000Z
DTEND:20190926T020000Z
SUMMARY:Real Modern Women? Gender\, things and post-war suburbia. A talk by 
 Bronwyn Labrum
END:VEVENT
END:VCALENDAR
