BEGIN:VCALENDAR
VERSION:2.0
PRODID:-//Squarespace Inc/Squarespace 6//v6//EN
BEGIN:VEVENT
UID:5ed866eda2751d4f034e00c0@squarespace.com
DTSTAMP:20200604T031530Z
DTSTART:20190803T010000Z
DTEND:20190803T020000Z
SUMMARY:Jacqueline Fahey's Suburbanites: The Curators in Conversation
END:VEVENT
END:VCALENDAR
