BEGIN:VCALENDAR
VERSION:2.0
PRODID:-//Squarespace Inc/Squarespace 6//v6//EN
BEGIN:VEVENT
UID:5ed8657f4c511a79a5f3c68b@squarespace.com
DTSTAMP:20200604T030945Z
DTSTART:20190815T060000Z
DTEND:20190815T070000Z
SUMMARY:Enlarging The World
END:VEVENT
END:VCALENDAR
