BEGIN:VCALENDAR
VERSION:2.0
PRODID:-//Squarespace Inc/Squarespace 6//v6//EN
BEGIN:VEVENT
UID:5ed8676d35787f08c58f5d3b@squarespace.com
DTSTAMP:20200604T031711Z
DTSTART:20190712T230000Z
DTEND:20190713T010000Z
SUMMARY:Artist at Work
END:VEVENT
END:VCALENDAR
