BEGIN:VCALENDAR
VERSION:2.0
PRODID:-//Squarespace Inc/Squarespace 6//v6//EN
BEGIN:VEVENT
UID:5ed867d2c1f3e47f8961add6@squarespace.com
DTSTAMP:20200604T031906Z
DTSTART:20190526T010000Z
DTEND:20190526T020000Z
SUMMARY:Edith Amituanai &amp\; Anna Miles: in conversation
END:VEVENT
END:VCALENDAR
