BEGIN:VCALENDAR
VERSION:2.0
PRODID:-//Squarespace Inc/Squarespace 6//v6//EN
BEGIN:VEVENT
UID:5ed8683d6991040c505d620e@squarespace.com
DTSTAMP:20200604T032112Z
DTSTART:20190524T000000Z
DTEND:20190524T020000Z
SUMMARY:Tivaevae in the Gallery
END:VEVENT
END:VCALENDAR
