BEGIN:VCALENDAR
VERSION:2.0
PRODID:-//Squarespace Inc/Squarespace 6//v6//EN
BEGIN:VEVENT
UID:5ed869445590d908591babed@squarespace.com
DTSTAMP:20200604T032539Z
DTSTART:20190518T010000Z
DTEND:20190518T020000Z
SUMMARY:Talk: Researching the Pacific in Pictures
END:VEVENT
END:VCALENDAR
