BEGIN:VCALENDAR
VERSION:2.0
PRODID:-//Squarespace Inc/Squarespace 6//v6//EN
BEGIN:VEVENT
UID:5ed869cb6ccfac1eace4241c@squarespace.com
DTSTAMP:20200604T035416Z
DTSTART:20190511T010000Z
DTEND:20190511T020000Z
SUMMARY:Talk: Haru Sameshima
END:VEVENT
END:VCALENDAR
