BEGIN:VCALENDAR
VERSION:2.0
PRODID:-//Squarespace Inc/Squarespace 6//v6//EN
BEGIN:VEVENT
UID:5ed86c317103460bec1cf1a3@squarespace.com
DTSTAMP:20200604T035237Z
DTSTART:20190510T000000Z
DTEND:20190510T020000Z
SUMMARY:Tivaevae in the Gallery
END:VEVENT
END:VCALENDAR
