BEGIN:VCALENDAR
VERSION:2.0
PRODID:-//Squarespace Inc/Squarespace 6//v6//EN
BEGIN:VEVENT
UID:5ed86d7b5bbd301c84ad28e4@squarespace.com
DTSTAMP:20200604T035242Z
DTSTART:20190221T230000Z
DTEND:20190222T010000Z
SUMMARY:Tivaevae in the Gallery
END:VEVENT
END:VCALENDAR
