BEGIN:VCALENDAR
VERSION:2.0
PRODID:-//Squarespace Inc/Squarespace 6//v6//EN
BEGIN:VEVENT
UID:5ed86eb687fcb309f6837c15@squarespace.com
DTSTAMP:20200604T035324Z
DTSTART:20190220T213000Z
DTEND:20190525T043000Z
SUMMARY:Photobooth Competition
END:VEVENT
END:VCALENDAR
