BEGIN:VCALENDAR
VERSION:2.0
PRODID:-//Squarespace Inc/Squarespace 6//v6//EN
BEGIN:VEVENT
UID:5ed86f1f0d193d3d7c6ea43d@squarespace.com
DTSTAMP:20200604T035425Z
DTSTART:20190221T063000Z
DTEND:20190224T020000Z
SUMMARY:&gt\;|&lt\; Contemporary Dance
END:VEVENT
END:VCALENDAR
