BEGIN:VCALENDAR
VERSION:2.0
PRODID:-//Squarespace Inc/Squarespace 6//v6//EN
BEGIN:VEVENT
UID:5ed85dc14c511a79a5f2c35f@squarespace.com
DTSTAMP:20200604T023642Z
DTSTART:20191207T000000Z
DTEND:20191207T013000Z
SUMMARY:Growing Up Chinese in Wellington: A Community Conversation
END:VEVENT
END:VCALENDAR
