BEGIN:VCALENDAR
VERSION:2.0
PRODID:-//Squarespace Inc/Squarespace 6//v6//EN
BEGIN:VEVENT
UID:5ed85e5140304e5e61f34587@squarespace.com
DTSTAMP:20200604T023820Z
DTSTART:20191128T000000Z
DTEND:20191128T010000Z
SUMMARY:The Artist and Director in Conversation
END:VEVENT
END:VCALENDAR
